BEGIN:VCALENDAR
VERSION:2.0
PRODID:SchoolNow
CALSCALE:GREGORIAN
BEGIN:VEVENT
UID:14a552c0-82da-11ed-bb41-0a8f0c4ca6cd
DTSTAMP:20221223T155427Z
SUMMARY:Food Truck - Jan. 11th
URL;VALUE=URI:https://www.wildernesslakecdd.org/calendar/3650717/food-truck
 -jan-11th
DTSTART:20230111T220000Z
DTEND:20230112T003000Z
END:VEVENT
END:VCALENDAR
