BEGIN:VCALENDAR
VERSION:2.0
PRODID:SchoolNow
CALSCALE:GREGORIAN
BEGIN:VEVENT
UID:631d5b1a-82d9-11ed-b281-0e934fd18cc5
DTSTAMP:20221223T154930Z
SUMMARY:Bible Study - Jan. 11th
URL;VALUE=URI:https://www.wildernesslakecdd.org/calendar/3650716/bible-stud
 y-jan-11th
DTSTART:20230111T150000Z
DTEND:20230111T160000Z
END:VEVENT
END:VCALENDAR
