BEGIN:VCALENDAR
VERSION:2.0
PRODID:SchoolNow
CALSCALE:GREGORIAN
BEGIN:VEVENT
UID:34244e9a-82d9-11ed-b47a-02e883cf4235
DTSTAMP:20221223T154811Z
SUMMARY:Walking & Toning - Jan. 11th
URL;VALUE=URI:https://www.wildernesslakecdd.org/calendar/3650715/walking-to
 ning-jan-11th
DTSTART:20230111T143000Z
DTEND:20230111T154500Z
END:VEVENT
END:VCALENDAR
