BEGIN:VCALENDAR
VERSION:2.0
PRODID:SchoolNow
CALSCALE:GREGORIAN
BEGIN:VEVENT
UID:fdb92416-82d8-11ed-a6fc-02e883cf4235
DTSTAMP:20221223T154639Z
SUMMARY:ARC Meeting - Jan. 9th
URL;VALUE=URI:https://www.wildernesslakecdd.org/calendar/3650714/arc-meetin
 g-jan-9th
DTSTART:20230109T233000Z
DTEND:20230110T003000Z
END:VEVENT
END:VCALENDAR
