BEGIN:VCALENDAR
VERSION:2.0
PRODID:SchoolNow
CALSCALE:GREGORIAN
BEGIN:VEVENT
UID:bfe1d5fc-82d8-11ed-b842-026e38f4c27f
DTSTAMP:20221223T154456Z
SUMMARY:Storytime - Jan. 9th
URL;VALUE=URI:https://www.wildernesslakecdd.org/calendar/3650713/storytime-
 jan-9th
DTSTART:20230109T150000Z
DTEND:20230109T160000Z
END:VEVENT
END:VCALENDAR
