BEGIN:VCALENDAR
VERSION:2.0
PRODID:SchoolNow
CALSCALE:GREGORIAN
BEGIN:VEVENT
UID:7a8cbca6-82d8-11ed-95a6-0ac9c8627eb9
DTSTAMP:20221223T154259Z
SUMMARY:Water Aerobics - Jan. 9th
URL;VALUE=URI:https://www.wildernesslakecdd.org/calendar/3650712/water-aero
 bics-jan-9th
DTSTART:20230109T140000Z
DTEND:20230109T150000Z
END:VEVENT
END:VCALENDAR
