BEGIN:VCALENDAR
VERSION:2.0
PRODID:SchoolNow
CALSCALE:GREGORIAN
BEGIN:VEVENT
UID:3302a134-82d8-11ed-b5d7-02e883cf4235
DTSTAMP:20221223T154059Z
SUMMARY:Walking & Toning - Jan. 9th
URL;VALUE=URI:https://www.wildernesslakecdd.org/calendar/3650711/walking-to
 ning-jan-9th
DTSTART:20230109T143000Z
DTEND:20230109T154500Z
END:VEVENT
END:VCALENDAR
