BEGIN:VCALENDAR
VERSION:2.0
PRODID:SchoolNow
CALSCALE:GREGORIAN
BEGIN:VEVENT
UID:f320aa5c-82d7-11ed-a93a-0ac9c8627eb9
DTSTAMP:20221223T153912Z
SUMMARY:Arts Class - Jan. 7th
URL;VALUE=URI:https://www.wildernesslakecdd.org/calendar/3650710/arts-class
 -jan-7th
DTSTART:20230107T170000Z
DTEND:20230107T200000Z
END:VEVENT
END:VCALENDAR
