BEGIN:VCALENDAR
VERSION:2.0
PRODID:SchoolNow
CALSCALE:GREGORIAN
BEGIN:VEVENT
UID:a4b4fabc-82d7-11ed-af47-0275e343fdd5
DTSTAMP:20221223T153701Z
SUMMARY:Tennis - Jan. 7th
URL;VALUE=URI:https://www.wildernesslakecdd.org/calendar/3650709/tennis-jan
 -7th
DTSTART:20230107T140000Z
DTEND:20230107T150000Z
END:VEVENT
END:VCALENDAR
