BEGIN:VCALENDAR
VERSION:2.0
PRODID:SchoolNow
CALSCALE:GREGORIAN
BEGIN:VEVENT
UID:528c696e-82d7-11ed-9c6c-0e934fd18cc5
DTSTAMP:20221223T153443Z
SUMMARY:Water Aerobics - Jan. 6th
URL;VALUE=URI:https://www.wildernesslakecdd.org/calendar/3650708/water-aero
 bics-jan-6th
DTSTART:20230106T140000Z
DTEND:20230106T150000Z
END:VEVENT
END:VCALENDAR
