BEGIN:VCALENDAR
VERSION:2.0
PRODID:SchoolNow
CALSCALE:GREGORIAN
BEGIN:VEVENT
UID:c1f628b8-82d6-11ed-8fa6-02193fb3b051
DTSTAMP:20221223T153040Z
SUMMARY:Walking & Toning - Jan. 6th
URL;VALUE=URI:https://www.wildernesslakecdd.org/calendar/3650707/walking-to
 ning-jan-6th
DTSTART:20230106T143000Z
DTEND:20230106T154500Z
END:VEVENT
END:VCALENDAR
