BEGIN:VCALENDAR
VERSION:2.0
PRODID:SchoolNow
CALSCALE:GREGORIAN
BEGIN:VEVENT
UID:6b0909f8-82d6-11ed-85b0-02193fb3b051
DTSTAMP:20221223T152814Z
SUMMARY:Pickleball - Jan. 5th
URL;VALUE=URI:https://www.wildernesslakecdd.org/calendar/3650706/pickleball
 -jan-5th
DTSTART:20230105T233000Z
DTEND:20230106T003000Z
END:VEVENT
END:VCALENDAR
