BEGIN:VCALENDAR
VERSION:2.0
PRODID:SchoolNow
CALSCALE:GREGORIAN
BEGIN:VEVENT
UID:1cf709c2-82d6-11ed-9204-0abe20764895
DTSTAMP:20221223T152603Z
SUMMARY:Yoga - Jan. 5th - Class 2
URL;VALUE=URI:https://www.wildernesslakecdd.org/calendar/3650705/yoga-jan-5
 th-class-2
DTSTART:20230105T145500Z
DTEND:20230105T155500Z
END:VEVENT
END:VCALENDAR
