BEGIN:VCALENDAR
VERSION:2.0
PRODID:SchoolNow
CALSCALE:GREGORIAN
BEGIN:VEVENT
UID:72605266-82d5-11ed-b75e-0abe20764895
DTSTAMP:20221223T152117Z
SUMMARY:Yoga - Jan. 5th - Class 1
URL;VALUE=URI:https://www.wildernesslakecdd.org/calendar/3650704/yoga-jan-5
 th-class-1
DTSTART:20230105T134500Z
DTEND:20230105T144500Z
END:VEVENT
END:VCALENDAR
