BEGIN:VCALENDAR
VERSION:2.0
PRODID:SchoolNow
CALSCALE:GREGORIAN
BEGIN:VEVENT
UID:0f368322-82d5-11ed-8bc3-0e1d622ac84b
DTSTAMP:20221223T151831Z
SUMMARY:Food Truck - Jan. 4th
URL;VALUE=URI:https://www.wildernesslakecdd.org/calendar/3650703/food-truck
 -jan-4th
DTSTART:20230104T100000Z
DTEND:20230105T003000Z
END:VEVENT
END:VCALENDAR
