BEGIN:VCALENDAR
VERSION:2.0
PRODID:SchoolNow
CALSCALE:GREGORIAN
BEGIN:VEVENT
UID:b8c9347c-82d3-11ed-b4e2-02e883cf4235
DTSTAMP:20221223T150856Z
SUMMARY:Bible Study - Jan. 4th
URL;VALUE=URI:https://www.wildernesslakecdd.org/calendar/3650702/bible-stud
 y-jan-4th
DTSTART:20230104T150000Z
DTEND:20230104T160000Z
END:VEVENT
END:VCALENDAR
