BEGIN:VCALENDAR
VERSION:2.0
PRODID:SchoolNow
CALSCALE:GREGORIAN
BEGIN:VEVENT
UID:4595e630-82d3-11ed-99f4-02e883cf4235
DTSTAMP:20221223T150543Z
SUMMARY:Walking & Toning - Jan. 4th
URL;VALUE=URI:https://www.wildernesslakecdd.org/calendar/3650701/walking-to
 ning-jan-4th
DTSTART:20230104T143000Z
DTEND:20230104T154500Z
END:VEVENT
END:VCALENDAR
