BEGIN:VCALENDAR
VERSION:2.0
PRODID:SchoolNow
CALSCALE:GREGORIAN
BEGIN:VEVENT
UID:c0ee232a-82d2-11ed-a18d-0ac9c8627eb9
DTSTAMP:20221223T150200Z
SUMMARY:CDD Meeting - Jan. 4th
URL;VALUE=URI:https://www.wildernesslakecdd.org/calendar/3650700/cdd-meetin
 g-jan-4th
DTSTART:20230104T143000Z
DTEND:20230104T190000Z
END:VEVENT
END:VCALENDAR
