BEGIN:VCALENDAR
VERSION:2.0
PRODID:SchoolNow
CALSCALE:GREGORIAN
BEGIN:VEVENT
UID:45902282-82d2-11ed-bb61-0e934fd18cc5
DTSTAMP:20221223T145834Z
SUMMARY:Pickleball - Jan. 3rd
URL;VALUE=URI:https://www.wildernesslakecdd.org/calendar/3650699/pickleball
 -jan-3rd
DTSTART:20230103T113000Z
DTEND:20230103T123000Z
END:VEVENT
END:VCALENDAR
