BEGIN:VCALENDAR
VERSION:2.0
PRODID:SchoolNow
CALSCALE:GREGORIAN
BEGIN:VEVENT
UID:dd135a4e-82d1-11ed-a3a1-0275e343fdd5
DTSTAMP:20221223T145538Z
SUMMARY:Yoga - Jan. 3rd - Class 2
URL;VALUE=URI:https://www.wildernesslakecdd.org/calendar/3650698/yoga-jan-3
 rd-class-2
DTSTART:20230103T134500Z
DTEND:20230103T144500Z
END:VEVENT
END:VCALENDAR
