BEGIN:VCALENDAR
VERSION:2.0
PRODID:SchoolNow
CALSCALE:GREGORIAN
BEGIN:VEVENT
UID:93e7d3e0-82d1-11ed-b130-0abe20764895
DTSTAMP:20221223T145335Z
SUMMARY:Yoga - Jan. 3rd - Class 1
URL;VALUE=URI:https://www.wildernesslakecdd.org/calendar/3650697/yoga-jan-3
 rd-class-1
DTSTART:20230103T134500Z
DTEND:20230103T144500Z
END:VEVENT
END:VCALENDAR
