BEGIN:VCALENDAR
VERSION:2.0
PRODID:SchoolNow
CALSCALE:GREGORIAN
BEGIN:VEVENT
UID:2e27e20c-82d1-11ed-b595-0e9c901bc6fb
DTSTAMP:20221223T145045Z
SUMMARY:Storytime - Jan. 2nd
URL;VALUE=URI:https://www.wildernesslakecdd.org/calendar/3650696/storytime-
 jan-2nd
DTSTART:20230102T150000Z
DTEND:20230102T160000Z
END:VEVENT
END:VCALENDAR
