BEGIN:VCALENDAR
VERSION:2.0
PRODID:SchoolNow
CALSCALE:GREGORIAN
BEGIN:VEVENT
UID:c5dfcd22-82d0-11ed-89ae-0a8f0c4ca6cd
DTSTAMP:20221223T144750Z
SUMMARY:Walking & Toning - Jan. 2nd
URL;VALUE=URI:https://www.wildernesslakecdd.org/calendar/3650695/walking-to
 ning-jan-2nd
DTSTART:20230102T143000Z
DTEND:20230102T154500Z
END:VEVENT
END:VCALENDAR
