BEGIN:VCALENDAR
VERSION:2.0
PRODID:SchoolNow
CALSCALE:GREGORIAN
BEGIN:VEVENT
UID:8bcb9814-82d0-11ed-b66f-0a8f0c4ca6cd
DTSTAMP:20221223T144612Z
SUMMARY:Water Aerobics - Jan. 2nd
URL;VALUE=URI:https://www.wildernesslakecdd.org/calendar/3650694/water-aero
 bics-jan-2nd
DTSTART:20230102T150000Z
DTEND:20230102T160000Z
END:VEVENT
END:VCALENDAR
