BEGIN:VCALENDAR
VERSION:2.0
PRODID:SchoolNow
CALSCALE:GREGORIAN
BEGIN:VEVENT
UID:55bf6fce-829f-11ed-9b06-0e1d622ac84b
DTSTAMP:20221223T090054Z
SUMMARY:Yoga - Jan.  10th - Class 2
URL;VALUE=URI:https://www.wildernesslakecdd.org/calendar/3650633/yoga-jan-1
 0th-class-2
DTSTART:20230110T145500Z
DTEND:20230110T155500Z
END:VEVENT
END:VCALENDAR
