BEGIN:VCALENDAR
VERSION:2.0
PRODID:SchoolNow
CALSCALE:GREGORIAN
BEGIN:VEVENT
UID:b53e2e64-829e-11ed-8a03-0e1d622ac84b
DTSTAMP:20221223T090030Z
SUMMARY:Yoga - Jan.  10th - Class 1
URL;VALUE=URI:https://www.wildernesslakecdd.org/calendar/3650632/yoga-jan-1
 0th-class-1
DTSTART:20230110T134500Z
DTEND:20230110T144500Z
END:VEVENT
END:VCALENDAR
