BEGIN:VCALENDAR
VERSION:2.0
PRODID:SchoolNow
CALSCALE:GREGORIAN
BEGIN:VEVENT
UID:fc9917cc-7af3-11ed-b344-02046d662d2f
DTSTAMP:20221213T144536Z
SUMMARY:Rules & Regulations Workshop
LOCATION:The Preserve at Wilderness Lake Lodge\, located at 21320 Wildernes
 s Lake Blvd.\, Land O’ Lakes\, FL 34637
URL;VALUE=URI:https://www.wildernesslakecdd.org/calendar/3642888/rules-regu
 lations-workshop
DTSTART:20230125T150000Z
DTEND:20230125T160000Z
END:VEVENT
END:VCALENDAR
