BEGIN:VCALENDAR
VERSION:2.0
PRODID:SchoolNow
CALSCALE:GREGORIAN
BEGIN:VEVENT
UID:32a1b02e-7a66-11ed-b4d0-0e2ae215655b
DTSTAMP:20221212T214447Z
SUMMARY:Yoga - Dec.  27th - Class 2
LOCATION:Activities Center
URL;VALUE=URI:https://www.wildernesslakecdd.org/calendar/3641875/yoga-dec-2
 7th-class-2
DTSTART:20221227T145500Z
DTEND:20221227T155500Z
END:VEVENT
END:VCALENDAR
