BEGIN:VCALENDAR
VERSION:2.0
PRODID:SchoolNow
CALSCALE:GREGORIAN
BEGIN:VEVENT
UID:329e3e8a-7a66-11ed-b05e-0e2ae215655b
DTSTAMP:20221212T214447Z
SUMMARY:Yoga - Dec.  27th - Class 1
LOCATION:Activities Center
URL;VALUE=URI:https://www.wildernesslakecdd.org/calendar/3641874/yoga-dec-2
 7th-class-1
DTSTART:20221227T134500Z
DTEND:20221227T145500Z
END:VEVENT
END:VCALENDAR
