BEGIN:VCALENDAR
VERSION:2.0
PRODID:SchoolNow
CALSCALE:GREGORIAN
BEGIN:VEVENT
UID:0d7a0be8-7a66-11ed-8750-0e2ae215655b
DTSTAMP:20221212T214344Z
SUMMARY:Yoga - Dec.  22nd - Class 2
LOCATION:Activities Center
URL;VALUE=URI:https://www.wildernesslakecdd.org/calendar/3641873/yoga-dec-2
 2nd-class-2
DTSTART:20221222T145500Z
DTEND:20221222T155500Z
END:VEVENT
END:VCALENDAR
