BEGIN:VCALENDAR
VERSION:2.0
PRODID:SchoolNow
CALSCALE:GREGORIAN
BEGIN:VEVENT
UID:0d785370-7a66-11ed-a1ec-0e2ae215655b
DTSTAMP:20221212T214344Z
SUMMARY:Yoga - Dec.  22nd - Class 1
LOCATION:Activities Center
URL;VALUE=URI:https://www.wildernesslakecdd.org/calendar/3641872/yoga-dec-2
 2nd-class-1
DTSTART:20221222T134500Z
DTEND:20221222T145500Z
END:VEVENT
END:VCALENDAR
