BEGIN:VCALENDAR
VERSION:2.0
PRODID:SchoolNow
CALSCALE:GREGORIAN
BEGIN:VEVENT
UID:e9a8ac88-7a65-11ed-92b9-0e2ae215655b
DTSTAMP:20221212T214244Z
SUMMARY:Yoga - Dec.  20th - Class 2
LOCATION:Activities Center
URL;VALUE=URI:https://www.wildernesslakecdd.org/calendar/3641871/yoga-dec-2
 0th-class-2
DTSTART:20221220T145500Z
DTEND:20221220T155500Z
END:VEVENT
END:VCALENDAR
