BEGIN:VCALENDAR
VERSION:2.0
PRODID:SchoolNow
CALSCALE:GREGORIAN
BEGIN:VEVENT
UID:e9a6d534-7a65-11ed-9141-0e2ae215655b
DTSTAMP:20221212T214244Z
SUMMARY:Yoga - Dec.  20th - Class 1
LOCATION:Activities Center
URL;VALUE=URI:https://www.wildernesslakecdd.org/calendar/3641870/yoga-dec-2
 0th-class-1
DTSTART:20221220T134500Z
DTEND:20221220T145500Z
END:VEVENT
END:VCALENDAR
