BEGIN:VCALENDAR
VERSION:2.0
PRODID:SchoolNow
CALSCALE:GREGORIAN
BEGIN:VEVENT
UID:bf4fb382-7a65-11ed-a4b0-0e2ae215655b
DTSTAMP:20221212T214133Z
SUMMARY:Yoga - Dec.  15th - Class 2
LOCATION:Activities Center
URL;VALUE=URI:https://www.wildernesslakecdd.org/calendar/3641869/yoga-dec-1
 5th-clone
DTSTART:20221215T145500Z
DTEND:20221215T155500Z
END:VEVENT
END:VCALENDAR
