BEGIN:VCALENDAR
VERSION:2.0
PRODID:SchoolNow
CALSCALE:GREGORIAN
BEGIN:VEVENT
UID:bf4d5ee8-7a65-11ed-9f28-0e2ae215655b
DTSTAMP:20221212T214133Z
SUMMARY:Yoga - Dec.  15th - Class 1
LOCATION:Activities Center
URL;VALUE=URI:https://www.wildernesslakecdd.org/calendar/3641868/yoga-dec-1
 5th
DTSTART:20221215T134500Z
DTEND:20221215T145500Z
END:VEVENT
END:VCALENDAR
