BEGIN:VCALENDAR
VERSION:2.0
PRODID:SchoolNow
CALSCALE:GREGORIAN
BEGIN:VEVENT
UID:73c85bee-7a65-11ed-9e5f-0e2ae215655b
DTSTAMP:20221212T214117Z
SUMMARY:Yoga - Dec.  13th - Class 2
LOCATION:Activities Center
URL;VALUE=URI:https://www.wildernesslakecdd.org/calendar/3641867/yoga-dec-1
 3th-class-2
DTSTART:20221213T145500Z
DTEND:20221213T155500Z
END:VEVENT
END:VCALENDAR
