BEGIN:VCALENDAR
VERSION:2.0
PRODID:SchoolNow
CALSCALE:GREGORIAN
BEGIN:VEVENT
UID:73c612a8-7a65-11ed-8529-0e2ae215655b
DTSTAMP:20221212T214109Z
SUMMARY:Yoga - Dec.  13th - Class 1
LOCATION:Activities Center
URL;VALUE=URI:https://www.wildernesslakecdd.org/calendar/3641866/yoga-dec-1
 3th-class-1
DTSTART:20221213T134500Z
DTEND:20221213T145500Z
END:VEVENT
END:VCALENDAR
