BEGIN:VCALENDAR
VERSION:2.0
PRODID:SchoolNow
CALSCALE:GREGORIAN
BEGIN:VEVENT
UID:50edb3ee-7a65-11ed-9df2-0e2ae215655b
DTSTAMP:20221212T214509Z
SUMMARY:Yoga - Dec.  29th - Class 2
LOCATION:Activities Center
URL;VALUE=URI:https://www.wildernesslakecdd.org/calendar/3641865/yoga-dec-2
 9th-class-2
DTSTART:20221229T145500Z
DTEND:20221229T155500Z
END:VEVENT
END:VCALENDAR
