BEGIN:VCALENDAR
VERSION:2.0
PRODID:SchoolNow
CALSCALE:GREGORIAN
BEGIN:VEVENT
UID:d43d4c06-7a64-11ed-a21a-0e2ae215655b
DTSTAMP:20221212T213459Z
SUMMARY:Pickleball Rocks
URL;VALUE=URI:https://www.wildernesslakecdd.org/calendar/3641864/pickleball
 -rocks
DTSTART:20221229T233000Z
DTEND:20221230T003000Z
END:VEVENT
END:VCALENDAR
