BEGIN:VCALENDAR
VERSION:2.0
PRODID:SchoolNow
CALSCALE:GREGORIAN
BEGIN:VEVENT
UID:7e2c661c-7a64-11ed-b82c-0e2ae215655b
DTSTAMP:20221212T213235Z
SUMMARY:Lodge Close @ 12:00 PM
URL;VALUE=URI:https://www.wildernesslakecdd.org/calendar/3641863/lodge-clos
 e-12-00-pm
DTSTART;VALUE=DATE:20221231
DTEND;VALUE=DATE:20230103
END:VEVENT
END:VCALENDAR
