BEGIN:VCALENDAR
VERSION:2.0
PRODID:SchoolNow
CALSCALE:GREGORIAN
BEGIN:VEVENT
UID:2e9d8ad6-7a64-11ed-a10a-0e2ae215655b
DTSTAMP:20221212T213021Z
SUMMARY:Lodge Closed - Jan. 1st
URL;VALUE=URI:https://www.wildernesslakecdd.org/calendar/3641862/lodge-clos
 ed-jan-1st
DTSTART;VALUE=DATE:20230101
DTEND;VALUE=DATE:20230103
END:VEVENT
END:VCALENDAR
