BEGIN:VCALENDAR
VERSION:2.0
PRODID:SchoolNow
CALSCALE:GREGORIAN
BEGIN:VEVENT
UID:07685ac2-7a64-11ed-bb76-0e2ae215655b
DTSTAMP:20221212T212915Z
SUMMARY:Family Movie Night - Dec. 29th
LOCATION:Theatre
URL;VALUE=URI:https://www.wildernesslakecdd.org/calendar/3641861/family-mov
 ie-night-dec-29th
DTSTART:20221229T150000Z
DTEND:20221229T163000Z
END:VEVENT
END:VCALENDAR
