BEGIN:VCALENDAR
VERSION:2.0
PRODID:SchoolNow
CALSCALE:GREGORIAN
BEGIN:VEVENT
UID:fb129da0-7a63-11ed-a703-0e2ae215655b
DTSTAMP:20221212T212855Z
SUMMARY:Family Movie Night - Dec. 27th
LOCATION:Theatre
URL;VALUE=URI:https://www.wildernesslakecdd.org/calendar/3641860/family-mov
 ie-night-dec-27th
DTSTART:20221227T150000Z
DTEND:20221227T163000Z
END:VEVENT
END:VCALENDAR
