BEGIN:VCALENDAR
VERSION:2.0
PRODID:SchoolNow
CALSCALE:GREGORIAN
BEGIN:VEVENT
UID:abb65832-7a63-11ed-bf78-0e2ae215655b
DTSTAMP:20221212T212641Z
SUMMARY:Lodge Open @ 12:00 pm
URL;VALUE=URI:https://www.wildernesslakecdd.org/calendar/3641859/lodge-open
 -12-00-pm
DTSTART:20221226T170000Z
DTEND:20221226T180000Z
END:VEVENT
END:VCALENDAR
