BEGIN:VCALENDAR
VERSION:2.0
PRODID:SchoolNow
CALSCALE:GREGORIAN
BEGIN:VEVENT
UID:92972f48-7a63-11ed-a865-0e2ae215655b
DTSTAMP:20221212T212559Z
SUMMARY:Lodge Closed
URL;VALUE=URI:https://www.wildernesslakecdd.org/calendar/3641858/lodge-clos
 ed
DTSTART;VALUE=DATE:20221225
DTEND;VALUE=DATE:20221226
END:VEVENT
END:VCALENDAR
