BEGIN:VCALENDAR
VERSION:2.0
PRODID:SchoolNow
CALSCALE:GREGORIAN
BEGIN:VEVENT
UID:7d44fc1a-7a63-11ed-bf83-0e2ae215655b
DTSTAMP:20221212T212739Z
SUMMARY:Lodge closed @ 3:00 pm
URL;VALUE=URI:https://www.wildernesslakecdd.org/calendar/3641857/lodge-clos
 ed-3-00-pm
DTSTART:20221224T200000Z
DTEND:20221224T210000Z
END:VEVENT
END:VCALENDAR
