BEGIN:VCALENDAR
VERSION:2.0
PRODID:SchoolNow
CALSCALE:GREGORIAN
BEGIN:VEVENT
UID:ff20521c-7a62-11ed-9293-0e2ae215655b
DTSTAMP:20221212T212152Z
SUMMARY:Family Movie Night - Dec. 22nd
LOCATION:Theatre
URL;VALUE=URI:https://www.wildernesslakecdd.org/calendar/3641856/family-mov
 ie-night-dec-22nd
DTSTART:20221222T230000Z
DTEND:20221223T003000Z
END:VEVENT
END:VCALENDAR
