BEGIN:VCALENDAR
VERSION:2.0
PRODID:SchoolNow
CALSCALE:GREGORIAN
BEGIN:VEVENT
UID:d481176c-7a62-11ed-b0cf-0e2ae215655b
DTSTAMP:20221212T212040Z
SUMMARY:Storytime - Dec. 19th
URL;VALUE=URI:https://www.wildernesslakecdd.org/calendar/3641855/storytime-
 dec-19th
DTSTART:20221219T150000Z
DTEND:20221219T160000Z
END:VEVENT
END:VCALENDAR
