BEGIN:VCALENDAR
VERSION:2.0
PRODID:SchoolNow
CALSCALE:GREGORIAN
BEGIN:VEVENT
UID:4c9e89f6-7a62-11ed-a709-0e2ae215655b
DTSTAMP:20221212T211652Z
SUMMARY:One Bus Blood
URL;VALUE=URI:https://www.wildernesslakecdd.org/calendar/3641854/one-bus-bl
 ood
DTSTART:20221217T150000Z
DTEND:20221217T200000Z
END:VEVENT
END:VCALENDAR
