BEGIN:VCALENDAR
VERSION:2.0
PRODID:SchoolNow
CALSCALE:GREGORIAN
BEGIN:VEVENT
UID:fe41c142-7a61-11ed-a6ca-0e2ae215655b
DTSTAMP:20221212T211441Z
SUMMARY:Family Movie Night
LOCATION:Theatre
URL;VALUE=URI:https://www.wildernesslakecdd.org/calendar/3641853/family-mov
 ie-night
DTSTART:20221213T150000Z
DTEND:20221213T163000Z
END:VEVENT
END:VCALENDAR
